Package: seqArchRplus Version: 1.10.0 Command: /Library/Frameworks/R.framework/Resources/bin/R CMD check --install=check:seqArchRplus.install-out.txt --library=/Library/Frameworks/R.framework/Resources/library --no-vignettes --timings seqArchRplus_1.10.0.tar.gz StartedAt: 2025-11-10 22:20:10 -0500 (Mon, 10 Nov 2025) EndedAt: 2025-11-10 22:20:14 -0500 (Mon, 10 Nov 2025) EllapsedTime: 4.1 seconds RetCode: 1 Status: ERROR CheckDir: seqArchRplus.Rcheck Warnings: NA