Package: seqArchRplus Version: 1.10.0 Command: /Library/Frameworks/R.framework/Resources/bin/R CMD build --keep-empty-dirs --no-resave-data seqArchRplus StartedAt: 2025-11-10 17:44:01 -0500 (Mon, 10 Nov 2025) EndedAt: 2025-11-10 17:45:12 -0500 (Mon, 10 Nov 2025) EllapsedTime: 70.9 seconds RetCode: 0 Status: OK PackageFile: seqArchRplus_1.10.0.tar.gz PackageFileSize: 3.743 MiB