Package: seq2pathway Version: 1.41.0 Command: /Library/Frameworks/R.framework/Resources/bin/R CMD check --install=check:seq2pathway.install-out.txt --library=/Library/Frameworks/R.framework/Resources/library --no-vignettes --timings seq2pathway_1.41.0.tar.gz StartedAt: 2025-10-02 22:05:44 -0400 (Thu, 02 Oct 2025) EndedAt: 2025-10-02 22:06:46 -0400 (Thu, 02 Oct 2025) EllapsedTime: 61.9 seconds RetCode: 1 Status: ERROR CheckDir: seq2pathway.Rcheck Warnings: NA