Package: seq.hotSPOT Version: 1.9.0 Command: /home/biocbuild/R/R/bin/R CMD build --keep-empty-dirs --no-resave-data seq.hotSPOT StartedAt: 2025-10-03 03:08:39 -0000 (Fri, 03 Oct 2025) EndedAt: 2025-10-03 03:08:48 -0000 (Fri, 03 Oct 2025) EllapsedTime: 9.0 seconds RetCode: 0 Status: OK PackageFile: seq.hotSPOT_1.9.0.tar.gz PackageFileSize: 1.424 MiB