Package: seq.hotSPOT Version: 1.9.0 Command: /home/biocbuild/bbs-3.22-bioc/R/bin/R CMD INSTALL seq.hotSPOT StartedAt: 2025-10-20 15:02:40 -0400 (Mon, 20 Oct 2025) EndedAt: 2025-10-20 15:02:58 -0400 (Mon, 20 Oct 2025) EllapsedTime: 17.8 seconds RetCode: 0 Status: OK