Package: seq.hotSPOT Version: 1.9.0 Command: /home/biocbuild/bbs-3.22-bioc/R/bin/R CMD check --install=check:seq.hotSPOT.install-out.txt --library=/home/biocbuild/bbs-3.22-bioc/R/site-library --timings seq.hotSPOT_1.9.0.tar.gz StartedAt: 2025-10-20 04:44:28 -0400 (Mon, 20 Oct 2025) EndedAt: 2025-10-20 04:44:59 -0400 (Mon, 20 Oct 2025) EllapsedTime: 31.0 seconds RetCode: 0 Status: OK CheckDir: seq.hotSPOT.Rcheck Warnings: 0