Package: selectKSigs Version: 1.21.0 Command: /home/biocbuild/R/R/bin/R CMD INSTALL selectKSigs StartedAt: 2025-10-16 22:26:44 -0000 (Thu, 16 Oct 2025) EndedAt: 2025-10-16 22:26:45 -0000 (Thu, 16 Oct 2025) EllapsedTime: 1.0 seconds RetCode: 1 Status: ERROR