Package: selectKSigs Version: 1.21.0 Command: /home/biocbuild/R/R/bin/R CMD build --keep-empty-dirs --no-resave-data selectKSigs StartedAt: 2025-10-17 04:33:14 -0000 (Fri, 17 Oct 2025) EndedAt: 2025-10-17 04:33:15 -0000 (Fri, 17 Oct 2025) EllapsedTime: 1.0 seconds RetCode: 1 Status: ERROR PackageFile: None PackageFileSize: NA