Package: selectKSigs Version: 1.21.0 Command: chmod a+r selectKSigs -R && F:\biocbuild\bbs-3.22-bioc\R\bin\R.exe CMD build --keep-empty-dirs --no-resave-data selectKSigs StartedAt: 2025-08-14 23:12:47 -0400 (Thu, 14 Aug 2025) EndedAt: 2025-08-14 23:15:03 -0400 (Thu, 14 Aug 2025) EllapsedTime: 136.4 seconds RetCode: 0 Status: OK PackageFile: selectKSigs_1.21.0.tar.gz PackageFileSize: 329.1 KiB