Package: selectKSigs Version: 1.21.0 Command: rm -rf selectKSigs.buildbin-libdir && mkdir selectKSigs.buildbin-libdir && F:\biocbuild\bbs-3.22-bioc\R\bin\R.exe CMD INSTALL --build --library=selectKSigs.buildbin-libdir selectKSigs_1.21.0.tar.gz StartedAt: 2025-08-15 11:17:26 -0400 (Fri, 15 Aug 2025) EndedAt: 2025-08-15 11:18:15 -0400 (Fri, 15 Aug 2025) EllapsedTime: 49.1 seconds RetCode: 0 Status: OK PackageFile: selectKSigs_1.21.0.zip PackageFileSize: 738.4 KiB