Package: selectKSigs Version: 1.21.0 Command: /Library/Frameworks/R.framework/Resources/bin/R CMD INSTALL selectKSigs StartedAt: 2025-10-17 15:32:13 -0400 (Fri, 17 Oct 2025) EndedAt: 2025-10-17 15:32:18 -0400 (Fri, 17 Oct 2025) EllapsedTime: 5.1 seconds RetCode: 0 Status: OK