Package: selectKSigs Version: 1.21.0 Command: /Library/Frameworks/R.framework/Resources/bin/R CMD build --keep-empty-dirs --no-resave-data selectKSigs StartedAt: 2025-10-19 17:40:41 -0400 (Sun, 19 Oct 2025) EndedAt: 2025-10-19 17:41:17 -0400 (Sun, 19 Oct 2025) EllapsedTime: 36.4 seconds RetCode: 0 Status: OK PackageFile: selectKSigs_1.21.0.tar.gz PackageFileSize: 406.5 KiB