Package: segmenter Version: 1.15.0 Command: /home/biocbuild/R/R/bin/R CMD INSTALL segmenter StartedAt: 2025-10-20 21:25:54 -0000 (Mon, 20 Oct 2025) EndedAt: 2025-10-20 21:26:54 -0000 (Mon, 20 Oct 2025) EllapsedTime: 59.9 seconds RetCode: 0 Status: OK