Package: segmenter Version: 1.15.0 Command: /home/biocbuild/R/R/bin/R CMD check --install=check:segmenter.install-out.txt --library=/home/biocbuild/R/R/site-library --no-vignettes --timings segmenter_1.15.0.tar.gz StartedAt: 2025-10-17 13:30:40 -0000 (Fri, 17 Oct 2025) EndedAt: 2025-10-17 13:41:20 -0000 (Fri, 17 Oct 2025) EllapsedTime: 640.0 seconds RetCode: 0 Status: OK CheckDir: segmenter.Rcheck Warnings: 0