Package: segmenter Version: 1.16.0 Command: /Library/Frameworks/R.framework/Resources/bin/R CMD build --keep-empty-dirs --no-resave-data segmenter StartedAt: 2025-11-03 18:44:49 -0500 (Mon, 03 Nov 2025) EndedAt: 2025-11-03 18:52:08 -0500 (Mon, 03 Nov 2025) EllapsedTime: 439.0 seconds RetCode: 0 Status: OK PackageFile: segmenter_1.16.0.tar.gz PackageFileSize: 3.995 MiB