Package: segmentSeq Version: 2.43.1 Command: /home/biocbuild/R/R/bin/R CMD INSTALL segmentSeq StartedAt: 2025-10-16 22:16:02 -0000 (Thu, 16 Oct 2025) EndedAt: 2025-10-16 22:16:52 -0000 (Thu, 16 Oct 2025) EllapsedTime: 50.5 seconds RetCode: 0 Status: OK