Package: segmentSeq Version: 2.43.1 Command: /home/biocbuild/bbs-3.22-bioc/R/bin/R CMD check --install=check:segmentSeq.install-out.txt --library=/home/biocbuild/bbs-3.22-bioc/R/site-library --timings segmentSeq_2.43.1.tar.gz StartedAt: 2025-10-20 04:42:42 -0400 (Mon, 20 Oct 2025) EndedAt: 2025-10-20 04:50:16 -0400 (Mon, 20 Oct 2025) EllapsedTime: 454.5 seconds RetCode: 0 Status: OK CheckDir: segmentSeq.Rcheck Warnings: 0