Package: segmentSeq Version: 2.43.1 Command: /Library/Frameworks/R.framework/Resources/bin/R CMD INSTALL segmentSeq StartedAt: 2025-10-19 15:44:40 -0400 (Sun, 19 Oct 2025) EndedAt: 2025-10-19 15:45:33 -0400 (Sun, 19 Oct 2025) EllapsedTime: 52.3 seconds RetCode: 0 Status: OK