Package: segmentSeq Version: 2.43.1 Command: /Library/Frameworks/R.framework/Resources/bin/R CMD check --install=check:segmentSeq.install-out.txt --library=/Library/Frameworks/R.framework/Resources/library --no-vignettes --timings segmentSeq_2.43.1.tar.gz StartedAt: 2025-10-20 01:37:48 -0400 (Mon, 20 Oct 2025) EndedAt: 2025-10-20 01:44:17 -0400 (Mon, 20 Oct 2025) EllapsedTime: 389.4 seconds RetCode: 0 Status: OK CheckDir: segmentSeq.Rcheck Warnings: 0