Package: segmentSeq Version: 2.43.1 Command: /Library/Frameworks/R.framework/Resources/bin/R CMD INSTALL segmentSeq StartedAt: 2025-10-20 15:27:13 -0400 (Mon, 20 Oct 2025) EndedAt: 2025-10-20 15:27:28 -0400 (Mon, 20 Oct 2025) EllapsedTime: 14.7 seconds RetCode: 0 Status: OK