Package: segmentSeq Version: 2.43.1 Command: /Library/Frameworks/R.framework/Resources/bin/R CMD build --keep-empty-dirs --no-resave-data segmentSeq StartedAt: 2025-10-19 17:40:24 -0400 (Sun, 19 Oct 2025) EndedAt: 2025-10-19 17:41:26 -0400 (Sun, 19 Oct 2025) EllapsedTime: 61.7 seconds RetCode: 0 Status: OK PackageFile: segmentSeq_2.43.1.tar.gz PackageFileSize: 3.075 MiB