Package: scuttle Version: 1.19.0 Command: /Library/Frameworks/R.framework/Resources/bin/R CMD INSTALL scuttle StartedAt: 2025-10-22 15:12:23 -0400 (Wed, 22 Oct 2025) EndedAt: 2025-10-22 15:12:46 -0400 (Wed, 22 Oct 2025) EllapsedTime: 22.2 seconds RetCode: 0 Status: OK