Package: scry Version: 1.22.0 Command: /Library/Frameworks/R.framework/Resources/bin/R CMD check --install=check:scry.install-out.txt --library=/Library/Frameworks/R.framework/Resources/library --no-vignettes --timings scry_1.22.0.tar.gz StartedAt: 2025-10-30 06:48:35 -0400 (Thu, 30 Oct 2025) EndedAt: 2025-10-30 06:51:59 -0400 (Thu, 30 Oct 2025) EllapsedTime: 204.1 seconds RetCode: 0 Status: OK CheckDir: scry.Rcheck Warnings: 0