Package: screenCounter Version: 1.9.0 Command: /home/biocbuild/R/R/bin/R CMD INSTALL screenCounter StartedAt: 2025-10-02 20:39:13 -0000 (Thu, 02 Oct 2025) EndedAt: 2025-10-02 20:41:22 -0000 (Thu, 02 Oct 2025) EllapsedTime: 129.2 seconds RetCode: 0 Status: OK