Package: screenCounter Version: 1.9.0 Command: /home/biocbuild/R/R/bin/R CMD check --install=check:screenCounter.install-out.txt --library=/home/biocbuild/R/R/site-library --no-vignettes --timings screenCounter_1.9.0.tar.gz StartedAt: 2025-10-03 11:25:59 -0000 (Fri, 03 Oct 2025) EndedAt: 2025-10-03 11:29:23 -0000 (Fri, 03 Oct 2025) EllapsedTime: 204.3 seconds RetCode: 0 Status: OK CheckDir: screenCounter.Rcheck Warnings: 0