Package: screenCounter Version: 1.10.0 Command: /Library/Frameworks/R.framework/Resources/bin/R CMD INSTALL screenCounter StartedAt: 2025-11-17 17:24:05 -0500 (Mon, 17 Nov 2025) EndedAt: 2025-11-17 17:26:53 -0500 (Mon, 17 Nov 2025) EllapsedTime: 167.9 seconds RetCode: 0 Status: OK