Package: screenCounter Version: 1.10.0 Command: /Library/Frameworks/R.framework/Resources/bin/R CMD check --install=check:screenCounter.install-out.txt --library=/Library/Frameworks/R.framework/Resources/library --no-vignettes --timings screenCounter_1.10.0.tar.gz StartedAt: 2025-11-18 14:21:30 -0500 (Tue, 18 Nov 2025) EndedAt: 2025-11-18 14:28:19 -0500 (Tue, 18 Nov 2025) EllapsedTime: 408.7 seconds RetCode: 0 Status: OK CheckDir: screenCounter.Rcheck Warnings: 0