Package: screenCounter Version: 1.10.0 Command: /Library/Frameworks/R.framework/Resources/bin/R CMD build --keep-empty-dirs --no-resave-data screenCounter StartedAt: 2025-11-18 00:45:04 -0500 (Tue, 18 Nov 2025) EndedAt: 2025-11-18 00:45:41 -0500 (Tue, 18 Nov 2025) EllapsedTime: 36.3 seconds RetCode: 0 Status: OK PackageFile: screenCounter_1.10.0.tar.gz PackageFileSize: 292.4 KiB