Package: scrapper Version: 1.3.13 Command: /home/biocbuild/R/R/bin/R CMD INSTALL scrapper StartedAt: 2025-10-16 21:31:22 -0000 (Thu, 16 Oct 2025) EndedAt: 2025-10-16 21:40:06 -0000 (Thu, 16 Oct 2025) EllapsedTime: 524.1 seconds RetCode: 0 Status: OK