Package: scrapper Version: 1.3.13 Command: /home/biocbuild/R/R/bin/R CMD check --install=check:scrapper.install-out.txt --library=/home/biocbuild/R/R/site-library --no-vignettes --timings scrapper_1.3.13.tar.gz StartedAt: 2025-10-17 13:25:46 -0000 (Fri, 17 Oct 2025) EndedAt: 2025-10-17 13:32:22 -0000 (Fri, 17 Oct 2025) EllapsedTime: 396.6 seconds RetCode: 0 Status: WARNINGS CheckDir: scrapper.Rcheck Warnings: 2