Package: scrapper Version: 1.3.6 Command: rm -rf scrapper.buildbin-libdir && mkdir scrapper.buildbin-libdir && F:\biocbuild\bbs-3.22-bioc\R\bin\R.exe CMD INSTALL --build --library=scrapper.buildbin-libdir scrapper_1.3.6.tar.gz StartedAt: 2025-08-15 11:16:27 -0400 (Fri, 15 Aug 2025) EndedAt: 2025-08-15 11:23:08 -0400 (Fri, 15 Aug 2025) EllapsedTime: 401.4 seconds RetCode: 0 Status: OK PackageFile: scrapper_1.3.6.zip PackageFileSize: 1.98 MiB