Package: scrapper Version: 1.3.15 Command: /home/biocbuild/bbs-3.22-bioc/R/bin/R CMD INSTALL scrapper StartedAt: 2025-10-20 15:16:57 -0400 (Mon, 20 Oct 2025) EndedAt: 2025-10-20 15:23:07 -0400 (Mon, 20 Oct 2025) EllapsedTime: 369.6 seconds RetCode: 0 Status: OK