Package: scrapper Version: 1.3.15 Command: /home/biocbuild/bbs-3.22-bioc/R/bin/R CMD build --keep-empty-dirs --no-resave-data --md5 scrapper StartedAt: 2025-10-19 19:56:00 -0400 (Sun, 19 Oct 2025) EndedAt: 2025-10-19 20:04:19 -0400 (Sun, 19 Oct 2025) EllapsedTime: 499.4 seconds RetCode: 0 Status: OK PackageFile: scrapper_1.3.15.tar.gz PackageFileSize: 933.2 KiB