Package: scrapper Version: 1.3.15 Command: /Library/Frameworks/R.framework/Resources/bin/R CMD INSTALL scrapper StartedAt: 2025-10-19 15:21:56 -0400 (Sun, 19 Oct 2025) EndedAt: 2025-10-19 15:28:24 -0400 (Sun, 19 Oct 2025) EllapsedTime: 388.2 seconds RetCode: 0 Status: OK