Package: scrapper Version: 1.3.15 Command: /Library/Frameworks/R.framework/Resources/bin/R CMD build --keep-empty-dirs --no-resave-data scrapper StartedAt: 2025-10-19 19:20:44 -0400 (Sun, 19 Oct 2025) EndedAt: 2025-10-19 19:31:10 -0400 (Sun, 19 Oct 2025) EllapsedTime: 625.8 seconds RetCode: 0 Status: OK PackageFile: scrapper_1.3.15.tar.gz PackageFileSize: 1.06 MiB