Package: scrapper Version: 1.3.15 Command: rm -rf scrapper.buildbin-libdir && mkdir scrapper.buildbin-libdir && /Users/biocbuild/BBS/utils/build-universal.sh scrapper_1.3.15.tar.gz /Library/Frameworks/R.framework/Resources/bin/R scrapper.buildbin-libdir StartedAt: 2025-10-20 03:32:42 -0400 (Mon, 20 Oct 2025) EndedAt: 2025-10-20 03:39:39 -0400 (Mon, 20 Oct 2025) EllapsedTime: 417.6 seconds RetCode: 0 Status: OK PackageFile: scrapper_1.3.15.tgz PackageFileSize: 2.45 MiB