Package: scp Version: 1.19.4 Command: /home/biocbuild/R/R/bin/R CMD INSTALL scp StartedAt: 2025-10-13 21:14:01 -0000 (Mon, 13 Oct 2025) EndedAt: 2025-10-13 21:14:40 -0000 (Mon, 13 Oct 2025) EllapsedTime: 38.6 seconds RetCode: 0 Status: OK