Package: scp Version: 1.19.5 Command: /home/biocbuild/R/R/bin/R CMD check --install=check:scp.install-out.txt --library=/home/biocbuild/R/R/site-library --no-vignettes --timings scp_1.19.5.tar.gz StartedAt: 2025-10-17 13:23:45 -0000 (Fri, 17 Oct 2025) EndedAt: 2025-10-17 13:35:55 -0000 (Fri, 17 Oct 2025) EllapsedTime: 730.0 seconds RetCode: 0 Status: WARNINGS CheckDir: scp.Rcheck Warnings: 1