Package: scp Version: 1.19.4 Command: /home/biocbuild/R/R/bin/R CMD build --keep-empty-dirs --no-resave-data scp StartedAt: 2025-10-14 03:26:20 -0000 (Tue, 14 Oct 2025) EndedAt: 2025-10-14 03:32:24 -0000 (Tue, 14 Oct 2025) EllapsedTime: 364.1 seconds RetCode: 0 Status: OK PackageFile: scp_1.19.4.tar.gz PackageFileSize: 7.337 MiB