Package: scoup Version: 1.3.0 Command: /home/biocbuild/R/R/bin/R CMD INSTALL scoup StartedAt: 2025-10-20 20:27:50 -0000 (Mon, 20 Oct 2025) EndedAt: 2025-10-20 20:28:08 -0000 (Mon, 20 Oct 2025) EllapsedTime: 17.9 seconds RetCode: 0 Status: OK