Package: scoup Version: 1.3.0 Command: /Library/Frameworks/R.framework/Resources/bin/R CMD INSTALL scoup StartedAt: 2025-10-20 15:17:12 -0400 (Mon, 20 Oct 2025) EndedAt: 2025-10-20 15:17:31 -0400 (Mon, 20 Oct 2025) EllapsedTime: 19.0 seconds RetCode: 0 Status: OK