Package: scoup Version: 1.3.0 Command: /Library/Frameworks/R.framework/Resources/bin/R CMD build --keep-empty-dirs --no-resave-data scoup StartedAt: 2025-10-20 19:20:31 -0400 (Mon, 20 Oct 2025) EndedAt: 2025-10-20 19:21:08 -0400 (Mon, 20 Oct 2025) EllapsedTime: 37.0 seconds RetCode: 0 Status: OK PackageFile: scoup_1.3.0.tar.gz PackageFileSize: 334.2 KiB