Package: scoup Version: 1.3.0 Command: /Library/Frameworks/R.framework/Resources/bin/R CMD INSTALL scoup StartedAt: 2025-10-19 15:08:01 -0400 (Sun, 19 Oct 2025) EndedAt: 2025-10-19 15:08:06 -0400 (Sun, 19 Oct 2025) EllapsedTime: 5.4 seconds RetCode: 0 Status: OK