Package: scoreInvHap Version: 1.31.0 Command: chmod a+r scoreInvHap -R && F:\biocbuild\bbs-3.22-bioc\R\bin\R.exe CMD build --keep-empty-dirs --no-resave-data scoreInvHap StartedAt: 2025-08-14 23:06:29 -0400 (Thu, 14 Aug 2025) EndedAt: 2025-08-14 23:08:09 -0400 (Thu, 14 Aug 2025) EllapsedTime: 100.6 seconds RetCode: 0 Status: OK PackageFile: scoreInvHap_1.31.0.tar.gz PackageFileSize: 1.022 MiB