Package: scoreInvHap Version: 1.32.0 Command: /home/biocbuild/bbs-3.22-bioc/R/bin/R CMD check --install=check:scoreInvHap.install-out.txt --library=/home/biocbuild/bbs-3.22-bioc/R/site-library --timings scoreInvHap_1.32.0.tar.gz StartedAt: 2025-11-17 03:59:20 -0500 (Mon, 17 Nov 2025) EndedAt: 2025-11-17 04:04:10 -0500 (Mon, 17 Nov 2025) EllapsedTime: 290.2 seconds RetCode: 0 Status: OK CheckDir: scoreInvHap.Rcheck Warnings: 0