Package: scoreInvHap Version: 1.32.0 Command: rm -rf scoreInvHap.buildbin-libdir && mkdir scoreInvHap.buildbin-libdir && /Users/biocbuild/BBS/utils/build-universal.sh scoreInvHap_1.32.0.tar.gz /Library/Frameworks/R.framework/Resources/bin/R scoreInvHap.buildbin-libdir StartedAt: 2025-11-04 02:03:07 -0500 (Tue, 04 Nov 2025) EndedAt: 2025-11-04 02:04:07 -0500 (Tue, 04 Nov 2025) EllapsedTime: 60.0 seconds RetCode: 0 Status: OK PackageFile: scoreInvHap_1.32.0.tgz PackageFileSize: 1.526 MiB