Package: scoreInvHap Version: 1.32.0 Command: /Library/Frameworks/R.framework/Resources/bin/R CMD build --keep-empty-dirs --no-resave-data scoreInvHap StartedAt: 2025-11-10 17:40:38 -0500 (Mon, 10 Nov 2025) EndedAt: 2025-11-10 17:41:05 -0500 (Mon, 10 Nov 2025) EllapsedTime: 27.3 seconds RetCode: 0 Status: OK PackageFile: scoreInvHap_1.32.0.tar.gz PackageFileSize: 1.037 MiB