Package: scone Version: 1.34.0 Command: /home/biocbuild/bbs-3.22-bioc/R/bin/R CMD check --install=check:scone.install-out.txt --library=/home/biocbuild/bbs-3.22-bioc/R/site-library --timings scone_1.34.0.tar.gz StartedAt: 2025-11-11 04:00:17 -0500 (Tue, 11 Nov 2025) EndedAt: 2025-11-11 04:12:15 -0500 (Tue, 11 Nov 2025) EllapsedTime: 717.6 seconds RetCode: 0 Status: OK CheckDir: scone.Rcheck Warnings: 0