Package: scone Version: 1.34.0 Command: /Library/Frameworks/R.framework/Resources/bin/R CMD INSTALL scone StartedAt: 2025-10-31 15:53:53 -0400 (Fri, 31 Oct 2025) EndedAt: 2025-10-31 15:55:06 -0400 (Fri, 31 Oct 2025) EllapsedTime: 72.6 seconds RetCode: 0 Status: OK