Package: scone Version: 1.34.0 Command: /Library/Frameworks/R.framework/Resources/bin/R CMD check --install=check:scone.install-out.txt --library=/Library/Frameworks/R.framework/Resources/library --no-vignettes --timings scone_1.34.0.tar.gz StartedAt: 2025-11-04 00:07:51 -0500 (Tue, 04 Nov 2025) EndedAt: 2025-11-04 00:18:46 -0500 (Tue, 04 Nov 2025) EllapsedTime: 655.0 seconds RetCode: 0 Status: OK CheckDir: scone.Rcheck Warnings: 0